BEGIN:VCALENDAR
VERSION:2.0
PRODID:-//Cool NYC Events - ECPv6.13.2.1//NONSGML v1.0//EN
CALSCALE:GREGORIAN
METHOD:PUBLISH
X-ORIGINAL-URL:http://www.coolnycevents.com
X-WR-CALDESC:Events for Cool NYC Events
REFRESH-INTERVAL;VALUE=DURATION:PT1H
X-Robots-Tag:noindex
X-PUBLISHED-TTL:PT1H
BEGIN:VTIMEZONE
TZID:America/New_York
BEGIN:DAYLIGHT
TZOFFSETFROM:-0500
TZOFFSETTO:-0400
TZNAME:EDT
DTSTART:20190310T070000
END:DAYLIGHT
BEGIN:STANDARD
TZOFFSETFROM:-0400
TZOFFSETTO:-0500
TZNAME:EST
DTSTART:20191103T060000
END:STANDARD
BEGIN:DAYLIGHT
TZOFFSETFROM:-0500
TZOFFSETTO:-0400
TZNAME:EDT
DTSTART:20200308T070000
END:DAYLIGHT
BEGIN:STANDARD
TZOFFSETFROM:-0400
TZOFFSETTO:-0500
TZNAME:EST
DTSTART:20201101T060000
END:STANDARD
END:VTIMEZONE
BEGIN:VEVENT
DTSTART;TZID=America/New_York:20200102T200000
DTEND;TZID=America/New_York:20200102T230000
DTSTAMP:20260423T184923
CREATED:20191228T180610Z
LAST-MODIFIED:20191228T180610Z
UID:2175-1577995200-1578006000@www.coolnycevents.com
SUMMARY:Yo! MTV Bingo
DESCRIPTION:Score a Rock N Roll Bingo and win vintage LPs\, fabulous prizes\, and free booze ! \nMusical selections by Major Jack Celliers \nRound 1 – Pop Diva Bingo\nRound 2 – Yo! MTV Bingo
URL:http://www.coolnycevents.com/event/yo-mtv-bingo/
LOCATION:Alligator Lounge\, 600 Metropolitan Avenue\, Brooklyn\, NY\, 11211\, United States
CATEGORIES:Culture,Free Event,Geek,Music
ATTACH;FMTTYPE=image/png:http://www.coolnycevents.com/wp-content/uploads/2019/12/Screen-Shot-2019-12-28-at-1.04.19-PM.png
END:VEVENT
BEGIN:VEVENT
DTSTART;TZID=America/New_York:20191203T183000
DTEND;TZID=America/New_York:20191203T203000
DTSTAMP:20260423T184923
CREATED:20191130T011710Z
LAST-MODIFIED:20191130T011710Z
UID:1952-1575397800-1575405000@www.coolnycevents.com
SUMMARY:Music and Our Memories
DESCRIPTION:Join us for an evening of jazz with a side of science. \nJazz musician Helen Sung will perform and neuroscientist Lenzie Ford will speak on how music connects to our emotions\, thoughts\, and memories. \nThis event is a partnership between the Zuckerman Institute\, Arts & Minds and The National Jazz Museum in Harlem.
URL:http://www.coolnycevents.com/event/music-and-our-memories/
LOCATION:National Jazz Museum in Harlem\, 58 W 129th St\, New York\, NY\, 10027\, United States
CATEGORIES:Free Event,Geek,Music,Science
ATTACH;FMTTYPE=image/png:http://www.coolnycevents.com/wp-content/uploads/2019/11/Screen-Shot-2019-11-29-at-8.16.18-PM.png
END:VEVENT
BEGIN:VEVENT
DTSTART;TZID=America/New_York:20191110T163000
DTEND;TZID=America/New_York:20191110T183000
DTSTAMP:20260423T184923
CREATED:20191104T045820Z
LAST-MODIFIED:20191104T045820Z
UID:1745-1573403400-1573410600@www.coolnycevents.com
SUMMARY:Festival Albertine: How Do We Get People to Care
DESCRIPTION:Artists and activists will be called upon to discuss how to change people’s minds and amplify the call to action.\n\n\n\n\n\n\nLiterature\, music\, drama—these are key resources for societies trying to come to grips with new realities. In recent years we’ve seen them begin to grapple with climate change\, but that engagement must now grow. The arts have traditionally engaged with what seemed the most dramatic questions: the struggles of one set of human beings with another. That struggle is still underway\, of course\, but now we’ve added something different: the terrifying drama of people with a suddenly angry natural world. How does this new moment redefine what we think about when we take up brush or pen\, camera or keyboard? What is the work of a poet in a world on fire\, or an orchestra in a city where the seas are rising?\n\nWith Irina Brook\, Lauren Groff\, Fabrice Hyber\, and Paul D. Miller aka DJ Spooky. Moderated by Bill McKibben.
URL:http://www.coolnycevents.com/event/festival-albertine-how-do-we-get-people-to-care/
LOCATION:Albertine Books\, 972 5th Avenue\, New York\, NY\, 10075\, United States
CATEGORIES:Art,Books,Culture,Free Event,Music,Nature,Philosophy
ATTACH;FMTTYPE=image/png:http://www.coolnycevents.com/wp-content/uploads/2019/11/Screen-Shot-2019-11-03-at-11.54.59-PM.png
END:VEVENT
BEGIN:VEVENT
DTSTART;TZID=America/New_York:20191109T160000
DTEND;TZID=America/New_York:20191109T180000
DTSTAMP:20260423T184923
CREATED:20191104T043553Z
LAST-MODIFIED:20191104T043553Z
UID:1736-1573315200-1573322400@www.coolnycevents.com
SUMMARY:Cornel West Matters: Book Talk with Mahamadou Lamine Sagna and Cornel West
DESCRIPTION:Join The Africa Center and Teranga as we present a conversation between Mahamadou Lamine Sagna and Cornel West about “Cornel West Matters”. \nThe book Cornel West Matters is a review of the titular philosopher’s seminal texts by Mahamadou Lamine Sagna\, who has long been interested in the way West analyses politics\, democracy\, religion and race\, and their intersections in America. It is also an analysis of the way West brings religion and music – particularly blues and jazz – into philosophy.
URL:http://www.coolnycevents.com/event/cornel-west-matters-book-talk-with-mahamadou-lamine-sagna-and-cornel-west/
LOCATION:The Africa Center\, 1280 Fifth Ave.\, New York\, NY\, 10029\, United States
CATEGORIES:Books,Culture,Economics,Free Event,Geek,Music,Philosophy
ATTACH;FMTTYPE=image/png:http://www.coolnycevents.com/wp-content/uploads/2019/11/Screen-Shot-2019-11-03-at-11.33.39-PM.png
END:VEVENT
BEGIN:VEVENT
DTSTART;TZID=America/New_York:20191101T180000
DTEND;TZID=America/New_York:20191101T200000
DTSTAMP:20260423T184923
CREATED:20191028T013828Z
LAST-MODIFIED:20191028T013956Z
UID:1646-1572631200-1572638400@www.coolnycevents.com
SUMMARY:Sympathy for the Drummer: Why Charlie Watts Matters Book Launch/Signing
DESCRIPTION:Across five decades\, Rolling Stones drummer Charlie Watts has had the best seat in the house. Charlie Watts\, the anti-rock star—an urbane jazz fan with a dry wit and little taste for the limelight—was witness to the most savage years in rock history\, and emerged a hero\, a warrior poet. Author Mike Edison\, himself a notorious raconteur and accomplished drummer\, tells a tale of respect and satisfaction that goes far beyond drums\, drumming\, and the Rolling Stones\, ripping apart the history of rock’n’roll\, and celebrating sixty years of cultural upheaval. \n 
URL:http://www.coolnycevents.com/event/sympathy-for-the-drummer-why-charlie-watts-matters-book-launch-signing/
LOCATION:Barnes and Noble Tribeca\, 97 Warren Street\, New York\, NY\, 10007\, United States
CATEGORIES:Books,Free Event,Music
ATTACH;FMTTYPE=image/png:http://www.coolnycevents.com/wp-content/uploads/2019/10/Screen-Shot-2019-10-27-at-9.35.08-PM.png
END:VEVENT
BEGIN:VEVENT
DTSTART;TZID=America/New_York:20191025T183000
DTEND;TZID=America/New_York:20191025T220000
DTSTAMP:20260423T184923
CREATED:20191020T021133Z
LAST-MODIFIED:20191020T021133Z
UID:1550-1572028200-1572040800@www.coolnycevents.com
SUMMARY:Music and the Brain
DESCRIPTION:A “Brain Bar” salon is a gathering of like-minded individuals convening to celebrate people within the brain community\, share stories and expand perspectives through the power of conversation\, curated speakers\, and live entertainment. Each salon will feature four talks and live music on a selected theme of the evening. Tonight’s theme is Music and the Brain. \nEntry is pay what you wish.
URL:http://www.coolnycevents.com/event/music-and-the-brain/
LOCATION:Splash That HQ\, 233 Broadway 28th Floor\, New York\, NY\, 10007\, United States
CATEGORIES:Free Event,Geek,Music,Science
ATTACH;FMTTYPE=image/png:http://www.coolnycevents.com/wp-content/uploads/2019/10/Screen-Shot-2019-10-19-at-10.08.39-PM.png
END:VEVENT
BEGIN:VEVENT
DTSTART;TZID=America/New_York:20191013T140000
DTEND;TZID=America/New_York:20191013T140000
DTSTAMP:20260423T184923
CREATED:20191006T181058Z
LAST-MODIFIED:20191006T181136Z
UID:1389-1570975200-1570975200@www.coolnycevents.com
SUMMARY:Rap and the Italian Renaissance
DESCRIPTION:This Olio event explores the parallels between Netflix’s series Hip Hop Evolution and the canonical narrative of Renaissance Art History. What can we learn through this comparison? Were Biggie Smalls and Tupac Shakur the Leonardo and Bellini of their day? In what way has the narrative of history\, the way it is told\, and by whom impact our understanding of culture? These and other questions will be explored in this interdisciplinary deep-dive of art and rap. \n*This Olio will take place in an Harlem apartment. Address given upon rsvp*
URL:http://www.coolnycevents.com/event/rap-and-the-italian-renaissance/
LOCATION:NY
CATEGORIES:Art,Culture,Music
ATTACH;FMTTYPE=image/png:http://www.coolnycevents.com/wp-content/uploads/2019/10/Screen-Shot-2019-10-06-at-2.09.11-PM.png
END:VEVENT
BEGIN:VEVENT
DTSTART;TZID=America/New_York:20190930T200000
DTEND;TZID=America/New_York:20190930T200000
DTSTAMP:20260423T184923
CREATED:20190929T125805Z
LAST-MODIFIED:20190929T125805Z
UID:1264-1569873600-1569873600@www.coolnycevents.com
SUMMARY:Debbie Harry: Face It (with Chris Stein and Rob Roth)
DESCRIPTION:Join Blondie frontwoman Debbie Harry for an illuminating evening as she introduces her long-anticipated memoir\, FACE IT (Dey Street\, October 1\, 2019). Featuring an in-depth conversation\, photos\, a visual presentation and more\, with Blondie co-founder and renowned photographer\, Chris Stein\, and multidisciplinary artist and director\, Rob Roth. ALL TICKET PURCHASES INCLUDE A SIGNED COPY OF ‘FACE IT’. \n  \n 
URL:http://www.coolnycevents.com/event/debbie-harry-face-it-with-chris-stein-and-rob-roth/
LOCATION:The Town Hall\, 123 West 43rd Street\, New York\, NY\, 10036\, United States
CATEGORIES:Books,Music
ATTACH;FMTTYPE=image/png:http://www.coolnycevents.com/wp-content/uploads/2019/09/Screen-Shot-2019-09-29-at-8.54.34-AM.png
END:VEVENT
BEGIN:VEVENT
DTSTART;TZID=America/New_York:20190927T183000
DTEND;TZID=America/New_York:20190927T183000
DTSTAMP:20260423T184923
CREATED:20190921T225709Z
LAST-MODIFIED:20190921T225709Z
UID:1221-1569609000-1569609000@www.coolnycevents.com
SUMMARY:Behind the Scenes: Maurice Sendak’s Designs for Opera
DESCRIPTION:General Director of the Portland Opera Christopher Mattaliano talks about his collaboration with Maurice Sendak and opera director Frank Corsaro in staging Mozart’s The Magic Flute\, Janacek’s The Cunning Little Vixen\, and Prokofiev’s The Love for Three Oranges. The presentation will be illustrated by images of Sendak’s sketches and production scenes. A live performance of select arias from The Magic Flute will end the evening featuring Patrick McNally\, baritone\, and Lindsay Ohse\, soprano\, and Kristen Kemp\, piano. \nThe exhibition Drawing the Curtain: Maurice Sendak’s Designs for Opera and Ballet will be open at 5:30pm for program attendees.
URL:http://www.coolnycevents.com/event/behind-the-scenes-maurice-sendaks-designs-for-opera/
LOCATION:The Morgan Library & Museum\, 225 Madison Avenue\, New York\, NY\, 10016\, United States
CATEGORIES:Art,Culture,Music
ATTACH;FMTTYPE=image/png:http://www.coolnycevents.com/wp-content/uploads/2019/09/Screen-Shot-2019-09-21-at-11.55.05-PM.png
END:VEVENT
BEGIN:VEVENT
DTSTART;TZID=America/New_York:20190923T193000
DTEND;TZID=America/New_York:20190923T203000
DTSTAMP:20260423T184923
CREATED:20190918T112241Z
LAST-MODIFIED:20190918T112241Z
UID:1180-1569267000-1569270600@www.coolnycevents.com
SUMMARY:Long Walk Home: Reflections on Bruce Springsteen Panel
DESCRIPTION:Commemorating the Boss’s seventieth birthday\, Long Walk Home explores  Bruce Springsteen’s legacy and provides a stirring set of testimonials that illustrate why his music matters. Join the Strand for a discussion and celebration of all things Bruce with editors Jonathan D. Cohen and June Skinner Sawyers\, along with contributors Natalie Adler\, Paul Muldoon\, Deepa Iyer\, and A.O. Scott.
URL:http://www.coolnycevents.com/event/long-walk-home-reflections-on-bruce-springsteen-panel/
LOCATION:The Strand\, 828 Broadway\, New York\, NY\, 10003\, United States
CATEGORIES:Books,Music
ATTACH;FMTTYPE=image/png:http://www.coolnycevents.com/wp-content/uploads/2019/09/Screen-Shot-2019-09-18-at-1.20.30-PM.png
END:VEVENT
BEGIN:VEVENT
DTSTART;TZID=America/New_York:20190910T180000
DTEND;TZID=America/New_York:20190910T190000
DTSTAMP:20260423T184923
CREATED:20190907T024623Z
LAST-MODIFIED:20190907T024623Z
UID:925-1568138400-1568142000@www.coolnycevents.com
SUMMARY:A Conversation with Classical Radio Voice Robert Sherman
DESCRIPTION:We present a conversation with Robert Sherman\, the most recognized radio voice in classical music. Renowned for his shows “The Listening Room\,” “Woody’s Children\,” and “Young Artists Showcase\,” Sherman recently celebrated 56 years with WQXR-FM. For 20 years\, he served as The New York Times music critic and columnist and authored books on music\, including two bestsellers with Victor Borge. Sherman continues to host WQXR’s “Young Artists Showcase” and sponsors the Nadia Reisenberg Young Artist Piano Series in Ossining. He will converse with NAC member Rhoda Elison Hirsch\, followed by an extended time period for audience questions.
URL:http://www.coolnycevents.com/event/a-conversation-with-classical-radio-voice-robert-sherman/
LOCATION:The National Arts Club\, 15 Gramercy Park South\, New York\, NY\, 10003\, United States
CATEGORIES:Free Event,Music
ATTACH;FMTTYPE=image/jpeg:http://www.coolnycevents.com/wp-content/uploads/2019/09/robert-sherman-wqxr.jpg
END:VEVENT
BEGIN:VEVENT
DTSTART;TZID=America/New_York:20190903T190000
DTEND;TZID=America/New_York:20190903T190000
DTSTAMP:20260423T184923
CREATED:20190831T191932Z
LAST-MODIFIED:20190831T191932Z
UID:869-1567537200-1567537200@www.coolnycevents.com
SUMMARY:Rick Ross Discusses His New Book HURRICANES at B&N Union Square
DESCRIPTION:Join Barnes & Noble – Union Square as they welcome hip-hop icon Rick Ross for a discussion and signing of his highly-anticipated memoir\, Hurricanes. He will be in-conversation with Charlamagne tha God. \nOne ticket grants you admission and one copy of Hurricanes. A signing with Rick Ross will follow the discussion with Charlamagne tha God (Charlamagne will not be signing). There is no personalization; photographs are only allowed from the signing line. Rick Ross will not sign memorabilia – only the book. \nHe will sign his new record\, Port of Miami 2\, if purchased at Barnes & Noble – Union Square that evening.
URL:http://www.coolnycevents.com/event/rick-ross-discusses-his-new-book-hurricanes-at-bn-union-square/
LOCATION:Barnes and Noble Union Square\, 33 E 17th St\, New York\, NY\, 10003\, United States
CATEGORIES:Books,Music
ATTACH;FMTTYPE=image/png:http://www.coolnycevents.com/wp-content/uploads/2019/08/Screen-Shot-2019-08-31-at-3.17.54-PM.png
END:VEVENT
BEGIN:VEVENT
DTSTART;TZID=America/New_York:20190830T143000
DTEND;TZID=America/New_York:20190830T160000
DTSTAMP:20260423T184923
CREATED:20190825T032010Z
LAST-MODIFIED:20190825T032010Z
UID:747-1567175400-1567180800@www.coolnycevents.com
SUMMARY:The Healing Power of Sound
DESCRIPTION:Come join artist and DJ Satya Hinduja for an introduction to the basic principles of Sound and its unseen impacts in our lives. A ninety-minute deep listening journey integrating ancient wisdom of sound with emerging technologies to stimulate wellness and a sense of wholeness within the listener. You will experience an environment of creativity and collaboration as a basis for inviting harmonic resonance amongst you and your fellow group participants.
URL:http://www.coolnycevents.com/event/the-healing-power-of-sound/
LOCATION:Prospect Plaza Community Center\, 1835 Sterling Place\, Brookly\, NY\, 11233\, United States
CATEGORIES:Free Event,Music
ATTACH;FMTTYPE=image/png:http://www.coolnycevents.com/wp-content/uploads/2019/08/Screen-Shot-2019-08-24-at-11.15.27-PM.png
END:VEVENT
BEGIN:VEVENT
DTSTART;TZID=America/New_York:20190829T180000
DTEND;TZID=America/New_York:20190829T180000
DTSTAMP:20260423T184923
CREATED:20190824T175641Z
LAST-MODIFIED:20190824T180006Z
UID:704-1567101600-1567101600@www.coolnycevents.com
SUMMARY:Jazz Speak at Grand Central Library
DESCRIPTION:The New York Public Library for the Performing Arts Presents: Jazz Speak at Grand Central! \nJoin us in celebrating the legacy of producer George Avakian\, one of the most important figures in the music industry responsible for the commercial popularization of Jazz music in the ’40s & the 50s. Best known for his work with Louis Armstrong\, Miles Davis\, Duke Ellington\, John Cage\, Alan Hovhaness\, Keith Jarrett\, and Sonny Rollins\, learn about the George Avakian and Anahid Ajemian collection from the Music and Recorded Sound division of the New York Public Library for the Performing Arts.
URL:http://www.coolnycevents.com/event/jazz-speak-at-grand-central-library/
LOCATION:Grand Central Library\, 135 East 46th Street\, New York\, NY\, 10017\, United States
CATEGORIES:Free Event,History,Music
ATTACH;FMTTYPE=image/jpeg:http://www.coolnycevents.com/wp-content/uploads/2019/08/george-avakian-miles-davis.jpg
END:VEVENT
BEGIN:VEVENT
DTSTART;TZID=America/New_York:20190822T190000
DTEND;TZID=America/New_York:20190822T190000
DTSTAMP:20260423T184923
CREATED:20190819T020523Z
LAST-MODIFIED:20190819T020523Z
UID:629-1566500400-1566500400@www.coolnycevents.com
SUMMARY:Margaret Fuller\, Beethoven\, and Revolution in the Minds of Women
DESCRIPTION:In this Olio event at The Strand Bookstore\, we will listen to musical performances by Groupmuse to both feel and think through what 19th century music critic Margaret Fuller calls the “rapid transition; the spiral and undulatory movement” of music. We will think about how music is linked to an awareness of space\, body\, and self\, and how that awareness translates into self-assertion and even social revolution through conversation\, listening\, and community organizing. How does music act on the individual and the collective to make one feel a part of something greater?
URL:http://www.coolnycevents.com/event/margaret-fuller-beethoven-and-revolution-in-the-minds-of-women/
LOCATION:The Strand\, 828 Broadway\, New York\, NY\, 10003\, United States
CATEGORIES:History,Music,Philosophy
ATTACH;FMTTYPE=image/png:http://www.coolnycevents.com/wp-content/uploads/2019/08/Screen-Shot-2019-08-18-at-11.40.19-AM.png
END:VEVENT
BEGIN:VEVENT
DTSTART;TZID=America/New_York:20190817T130000
DTEND;TZID=America/New_York:20190817T153000
DTSTAMP:20260423T184923
CREATED:20190812T032904Z
LAST-MODIFIED:20190812T033009Z
UID:522-1566046800-1566055800@www.coolnycevents.com
SUMMARY:Greats Of Jazz & Vaudeville: A Victrola Trolley Tour at Woodlawn
DESCRIPTION:Visit and celebrate some of the greatest performers from 100 years ago and their indelible musical contributions to jazz\, pop and vaudeville history. Each stop will include a brief talk about the entertainer PLUS a 78rpm record played on an antique crank-up Victrola as an aural dimension to the tour.
URL:http://www.coolnycevents.com/event/greats-of-jazz-vaudeville-a-victrola-trolley-tour-at-woodlawn/
LOCATION:Woodlawn\, Jerome Avenue at Bainbridge Avenue\, Bronx\, NY\, 10470\, United States
CATEGORIES:History,Music,Tour
ATTACH;FMTTYPE=image/png:http://www.coolnycevents.com/wp-content/uploads/2019/08/Screen-Shot-2019-08-11-at-11.28.11-PM.png
END:VEVENT
BEGIN:VEVENT
DTSTART;TZID=America/New_York:20190809T180000
DTEND;TZID=America/New_York:20190809T200000
DTSTAMP:20260423T184923
CREATED:20190805T014659Z
LAST-MODIFIED:20190805T014659Z
UID:431-1565373600-1565380800@www.coolnycevents.com
SUMMARY:Historic Greenwich Village Tour: Beats\, Bohemians\, and Icons of the ’60s
DESCRIPTION:Bob Dylan\, Richard Pryor\, Edgar Allen Poe\, Jane Jacobs\, James Baldwin\, Jack Kerouac\, Dave Attell\, Patti Smith\, Joan Baez\, and Truman Capote are just a few of the thousands of accomplished artists\, writers\, radicals\, and performers who made their way through Greenwich Village. This tour\, primarily focusing on the 1950s onward\, visits the hangouts that have defined legendary people and the spirit of this iconic neighborhood.
URL:http://www.coolnycevents.com/event/historic-greenwich-village-tour-beats-bohemians-and-icons-of-the-60s/
LOCATION:McCarthy Square\, 7th Avenue South and Charles St.\, New York\, NY\, 10014\, United States
CATEGORIES:Culture,History,Music,Tour
ATTACH;FMTTYPE=image/png:http://www.coolnycevents.com/wp-content/uploads/2019/08/Screen-Shot-2019-08-04-at-9.45.23-PM.png
END:VEVENT
BEGIN:VEVENT
DTSTART;TZID=America/New_York:20190805T190000
DTEND;TZID=America/New_York:20190805T210000
DTSTAMP:20260423T184923
CREATED:20190804T161256Z
LAST-MODIFIED:20190804T161256Z
UID:377-1565031600-1565038800@www.coolnycevents.com
SUMMARY:Portraits of Iranian Female Composers
DESCRIPTION:The intrepid International Contemporary Ensemble performs the music of Anahita Abbasi\, Aida Shirazi\, and Niloufar Nourbakhsh from the Iranian Female Composers Association. This concert will be preceded by a mini-documentary about the composers.
URL:http://www.coolnycevents.com/event/portraits-of-iranian-female-composers/
LOCATION:The New York Public Library for the Performing Arts\, 111 Amsterdam Avenue\, New York\, NY\, 10023\, United States
CATEGORIES:Free Event,Music
ATTACH;FMTTYPE=image/png:http://www.coolnycevents.com/wp-content/uploads/2019/08/Screen-Shot-2019-08-01-at-9.54.01-PM.png
END:VEVENT
BEGIN:VEVENT
DTSTART;TZID=America/New_York:20190727T110000
DTEND;TZID=America/New_York:20190727T123000
DTSTAMP:20260423T184923
CREATED:20190723T032250Z
LAST-MODIFIED:20190723T032250Z
UID:302-1564225200-1564230600@www.coolnycevents.com
SUMMARY:West African Drumming and Dance
DESCRIPTION:Learn the basics of West African drumming and dance at this family workshop hosted by Sankofa founder Kofi Maxwell Donkor. Drums provided.
URL:http://www.coolnycevents.com/event/west-african-drumming-and-dance/
LOCATION:Nelson A. Rockefeller Park\, River Terrace & Murray Street\, New York\, NY\, 10280\, United States
CATEGORIES:Culture,Free Event,Music
ATTACH;FMTTYPE=image/jpeg:http://www.coolnycevents.com/wp-content/uploads/2019/07/west-african-dance-nyc.jpeg
END:VEVENT
BEGIN:VEVENT
DTSTART;TZID=America/New_York:20190723T190000
DTEND;TZID=America/New_York:20190723T190000
DTSTAMP:20260423T184923
CREATED:20190720T205712Z
LAST-MODIFIED:20190720T205712Z
UID:238-1563908400-1563908400@www.coolnycevents.com
SUMMARY:The American Soundscape
DESCRIPTION:The American Soundscape with Christina Katopodis. Join Christina Katopodis\, doctoral candidate in English at the Graduate Center\, CUNY\, for a discussion on sounds in American poems and books written before sound recording technology. \n*This Olio will take place in a Williamsburg living room off the L train to Graham Avenue stop. Address will be sent upon rsvp*
URL:http://www.coolnycevents.com/event/the-american-soundscape/
LOCATION:NY
CATEGORIES:Music
ATTACH;FMTTYPE=image/png:http://www.coolnycevents.com/wp-content/uploads/2019/07/Screen-Shot-2019-07-20-at-4.56.20-PM.png
END:VEVENT
END:VCALENDAR